BEGIN:VCALENDAR
VERSION:2.0
PRODID:gruene-freiburg.de
METHOD:PUBLISH
BEGIN:VTIMEZONE
TZID:Europe/Berlin
X-LIC-LOCATION:Europe/Berlin
BEGIN:DAYLIGHT
TZOFFSETFROM:+0100
TZOFFSETTO:+0200
TZNAME:CEST
DTSTART:19700329T020000
RRULE:FREQ=YEARLY;INTERVAL=1;BYDAY=-1SU;BYMONTH=3
END:DAYLIGHT
BEGIN:STANDARD
TZOFFSETFROM:+0200
TZOFFSETTO:+0100
TZNAME:CET
DTSTART:19701025T030000
RRULE:FREQ=YEARLY;INTERVAL=1;BYDAY=-1SU;BYMONTH=10
END:STANDARD
END:VTIMEZONE
BEGIN:VEVENT
UID:ca4279f672f194e6af6c86287f1909fb@gruene-freiburg.de
URL;VALUE=URI:https://gruene-freiburg.de/termine/workshop-stand-und-haust
 uerwahlkampf-4/
LOCATION:Grünen Büro
SUMMARY:Workshop „Stand- und Haustürwahlkampf“
DESCRIPTION;ALTREP="data:text/html,%0A%3Cp%3EWie%20findet%20der%20Freibur
 ger%20Kommunal-%20und%20Europawahlkampf%20statt%3F%20Was%20ist%20unsere%2
 0Wahlkampfstrategie%3F%20Wie%20mache%20ich%20einen%20guten%20Haust%C3%BCr
 wahlkampf%3F%20Was%20muss%20ich%20an%20einem%20Wahlkampfstand%20beachten%
 3F%20Wie%20komme%20ich%20aus%20unangenehmen%20Gespr%C3%A4chen%3F%20Alle%2
 0diese%20Fragen%20und%20viele%20weitere%20werden%20wir%20in%20diesem%20Wo
 rkshop%20angehen.%20Dabei%20wird%20Jannick%20den%20Workshop%20immer%20auf
 %20den%20Wissenstand%20und%20die%20Fragen%20der%20Teilnehmer%2Ainnen%20ei
 ngehen.%20Der%20Workshop%20ist%20f%C3%BCr%20alle%20Interessiere%20offen%2
 C%20Mitglied%20oder%20nicht.%26nbsp%3B%3C%2Fp%3E%0A%0A%0A%0A%3Cp%3EUm%20A
 nmeldung%20unter%20jannick.roller%40gruene-freiburg.de%20wird%20gebeten.%
 20Bei%20weniger%20als%205%20Teilnehmer%2Ainnen%20wird%20der%20Workshop%20
 abgesagt%21%26nbsp%3B%3C%2Fp%3E%0A%0A%0A%0A%3Cp%3EFragen%20und%20Anmeldun
 g%20unter%3A%20jannick.roller%40gruene-freiburg.de%26nbsp%3B%3C%2Fp%3E%0A
 ":Wie findet der Freiburger Kommunal- und Europawahlkampf statt? Was ist 
 unsere Wahlkampfstrategie? Wie mache ich einen guten Haustürwahlkampf? W
 as muss ich an einem Wahlkampfstand beachten? Wie komme ich aus unangeneh
 men Gesprächen? Alle diese Fragen und viele weitere werden wir in diesem
  Workshop angehen. Dabei wird Jannick den Workshop immer auf den Wissenst
 and und die Fragen der Teilnehmer*innen eingehen. Der Workshop ist für a
 lle Interessiere offen\, Mitglied oder nicht. \n\nUm Anmeldung unter jan
 nick.roller@gruene-freiburg.de wird gebeten. Bei weniger als 5 Teilnehmer
 *innen wird der Workshop abgesagt! \n\nFragen und Anmeldung unter: janni
 ck.roller@gruene-freiburg.de 
CLASS:PUBLIC
DTSTART;TZID=Europe/Berlin:20240504T140000
DTEND;TZID=Europe/Berlin:20240504T150000
DTSTAMP:20260421T095854
END:VEVENT
END:VCALENDAR