BEGIN:VCALENDAR
VERSION:2.0
PRODID:gruene-freiburg.de
METHOD:PUBLISH
BEGIN:VTIMEZONE
TZID:Europe/Berlin
X-LIC-LOCATION:Europe/Berlin
BEGIN:DAYLIGHT
TZOFFSETFROM:+0100
TZOFFSETTO:+0200
TZNAME:CEST
DTSTART:19700329T020000
RRULE:FREQ=YEARLY;INTERVAL=1;BYDAY=-1SU;BYMONTH=3
END:DAYLIGHT
BEGIN:STANDARD
TZOFFSETFROM:+0200
TZOFFSETTO:+0100
TZNAME:CET
DTSTART:19701025T030000
RRULE:FREQ=YEARLY;INTERVAL=1;BYDAY=-1SU;BYMONTH=10
END:STANDARD
END:VTIMEZONE
BEGIN:VEVENT
UID:e7b022373458579a4e4e417868e5cee4@gruene-freiburg.de
URL;VALUE=URI:https://gruene-freiburg.de/termine/mitgliederinterner-austa
 usch-mit-klaudia-jachira/
LOCATION:auf Anfrage, Freiburg
SUMMARY:Mitgliederinterner Austausch mit Klaudia Jachira
DESCRIPTION;ALTREP="data:text/html,%0A%3Cp%3EAm%2024.%20Oktober%20besucht
 %20uns%20die%20Sejm-Abgeordnete%20unserer%20polnischen%20gr%C3%BCnen%20Sc
 hwesterpartei%20Klaudia%20Jachira%20in%20Freiburg.%3C%2Fp%3E%0A%0A%0A%0A%
 3Cp%3EVor%20der%20%C3%B6ffentlichen%20Veranstaltung%20mit%20Chantal%20Kop
 f%20MdB%20im%20Gr%C3%BCnhof%20habt%20Ihr%20ab%2017%3A00%20Uhr%20die%20M%C
 3%B6glichkeit%2C%20Euch%20bei%20einem%20mitgliederinternen%20Treffen%20mi
 t%20Klaudia%20im%20kleinen%20Kreis%20auszutauschen.%3C%2Fp%3E%0A%0A%0A%0A
 %3Cp%3EZu%26nbsp%3B%3Ca%20href%3D%22https%3A%2F%2Fklaudiajachira.pl%2F%3F
 fbclid%3DIwAR0htVpENLwVGAjdnJTobc1M9Tdihq1zXAmet-OJjY5699KEWz88XM-uqi8%22
 %3EKlaudia%20Jachira%3C%2Fa%3E%3A%3C%2Fp%3E%0A%0A%0A%0A%3Cp%3ESie%20wurde
 %202019%20in%20den%20Sejm%20%28polnisches%20Unterhaus%29%20gew%C3%A4hlt%2
 0und%20ist%20dort%26nbsp%3BMitglied%20in%20der%20Kommission%20f%C3%BCr%20
 Umweltschutz%20und%20in%20der%20Kommission%20zur%20Reform%20des%20Briefwa
 hlrechts.%3C%2Fp%3E%0A%0A%0A%0A%3Cp%3EZu%20ihren%20politischen%20Themen%2
 0geh%C3%B6ren%3A%3C%2Fp%3E%0A%0A%0A%0A%3Cul%20class%3D%22wp-block-list%22
 %3E%0A%3Cli%3EKlima%20und%20Umweltschutz%3C%2Fli%3E%0A%0A%0A%0A%3Cli%3ERe
 chtsstaatlichkeit%26nbsp%3B%3C%2Fli%3E%0A%0A%0A%0A%3Cli%3EFrauenrechte%3C
 %2Fli%3E%0A%0A%0A%0A%3Cli%3ES%C3%A4kularer%20Staat%3C%2Fli%3E%0A%3C%2Ful%
 3E%0A%0A%0A%0A%3Cp%3E%3C%2Fp%3E%0A%0A%0A%0A%3Cp%3E%3Cstrong%3ETeilname%20
 mit%20Anmeldung%20per%20Mail%20an%20die%20Gesch%C3%A4ftsstelle%3A%20%3Ca%
 20href%3D%22mailto%3Akv%40gruene-freiburg.de%22%3Ekv%40gruene-freiburg.de
 %3C%2Fa%3E%20%3C%2Fstrong%3E%3C%2Fp%3E%0A%0A%0A%0A%3Cp%3E%3Cstrong%3EDer%
 20Treffpunkt%20wird%20nach%20der%20Anmeldung%20mitgeteilt.%3C%2Fstrong%3E
 %3C%2Fp%3E%0A":Am 24. Oktober besucht uns die Sejm-Abgeordnete unserer po
 lnischen grünen Schwesterpartei Klaudia Jachira in Freiburg.\n\nVor der 
 öffentlichen Veranstaltung mit Chantal Kopf MdB im Grünhof habt Ihr ab 
 17:00 Uhr die Möglichkeit\, Euch bei einem mitgliederinternen Treffen mi
 t Klaudia im kleinen Kreis auszutauschen.\n\nZu Klaudia Jachira:\n\nSie 
 wurde 2019 in den Sejm (polnisches Unterhaus) gewählt und ist dort Mitg
 lied in der Kommission für Umweltschutz und in der Kommission zur Reform
  des Briefwahlrechts.\n\nZu ihren politischen Themen gehören:\n\nKlima u
 nd Umweltschutz\n\nRechtsstaatlichkeit \n\nFrauenrechte\n\nSäkularer St
 aat\n\nTeilname mit Anmeldung per Mail an die Geschäftsstelle: kv@gruene
 -freiburg.de\n\nDer Treffpunkt wird nach der Anmeldung mitgeteilt.
CLASS:PUBLIC
DTSTART;TZID=Europe/Berlin:20231024T170000
DTEND;TZID=Europe/Berlin:20231024T183000
DTSTAMP:20260423T103721
END:VEVENT
END:VCALENDAR