BEGIN:VCALENDAR
VERSION:2.0
PRODID:gruene-freiburg.de
METHOD:PUBLISH
BEGIN:VTIMEZONE
TZID:Europe/Berlin
X-LIC-LOCATION:Europe/Berlin
BEGIN:DAYLIGHT
TZOFFSETFROM:+0100
TZOFFSETTO:+0200
TZNAME:CEST
DTSTART:19700329T020000
RRULE:FREQ=YEARLY;INTERVAL=1;BYDAY=-1SU;BYMONTH=3
END:DAYLIGHT
BEGIN:STANDARD
TZOFFSETFROM:+0200
TZOFFSETTO:+0100
TZNAME:CET
DTSTART:19701025T030000
RRULE:FREQ=YEARLY;INTERVAL=1;BYDAY=-1SU;BYMONTH=10
END:STANDARD
END:VTIMEZONE
BEGIN:VEVENT
UID:0c4407507b736a9dd423a05740cf4768@gruene-freiburg.de
URL;VALUE=URI:https://gruene-freiburg.de/termine/infostand/
LOCATION:tba
SUMMARY:INFOSTAND
DESCRIPTION;ALTREP="data:text/html,%0A%3Cp%3EWir%20starten%20in%20den%20W
 ahlkampf%20und%20freuen%20uns%20ab%2010%3A00%20Uhr%20%C3%BCber%20Mitstrei
 ter%3Ainnen%20am%20Infostand%20in%20der%20Innenstadt.%20%3C%2Fp%3E%0A%0A%
 0A%0A%3Cp%3EMelde%20dich%20in%20der%20%3Ca%20href%3D%22https%3A%2F%2Fgrue
 ne-freiburg.de%2Fkontakt%2F%22%3EGesch%C3%A4ftsstelle%3C%2Fa%3E%2C%20wenn
 %20du%20mithelfen%20kannst.%3C%2Fp%3E%0A%0A%0A%0A%3Cp%3E%3C%2Fp%3E%0A":Wi
 r starten in den Wahlkampf und freuen uns ab 10:00 Uhr über Mitstreiter:
 innen am Infostand in der Innenstadt.\n\nMelde dich in der Geschäftsstel
 le\, wenn du mithelfen kannst.
CLASS:PUBLIC
DTSTART;TZID=Europe/Berlin:20241130T100000
DTEND;TZID=Europe/Berlin:20241130T110000
DTSTAMP:20260422T025202
END:VEVENT
END:VCALENDAR