BEGIN:VCALENDAR
VERSION:2.0
PRODID:gruene-freiburg.de
METHOD:PUBLISH
BEGIN:VTIMEZONE
TZID:Europe/Berlin
X-LIC-LOCATION:Europe/Berlin
BEGIN:DAYLIGHT
TZOFFSETFROM:+0100
TZOFFSETTO:+0200
TZNAME:CEST
DTSTART:19700329T020000
RRULE:FREQ=YEARLY;INTERVAL=1;BYDAY=-1SU;BYMONTH=3
END:DAYLIGHT
BEGIN:STANDARD
TZOFFSETFROM:+0200
TZOFFSETTO:+0100
TZNAME:CET
DTSTART:19701025T030000
RRULE:FREQ=YEARLY;INTERVAL=1;BYDAY=-1SU;BYMONTH=10
END:STANDARD
END:VTIMEZONE
BEGIN:VEVENT
UID:bed784f861e42e19851da098e85ce4ee@gruene-freiburg.de
URL;VALUE=URI:https://gruene-freiburg.de/termine/demo-wir-sind-die-brandm
 auer/
LOCATION:
SUMMARY:Demo: WIR SIND DIE BRANDMAUER
DESCRIPTION;ALTREP="data:text/html,%0A%3Cp%3EDer%20Kreisverband%20Freibur
 g%20ruft%20zur%20Teilnahme%20an%20der%20%3Cstrong%3E%3Ca%20href%3D%22http
 s%3A%2F%2Fwirsinddiebrandmauer.fr%2F%22%3EGro%C3%9Fdemo%20gegen%20Rechtse
 xtremismus%3C%2Fa%3E%3C%2Fstrong%3E%20auf.%20Treffpunkt%20f%C3%BCr%20die%
 20gemeinsame%20Teilnahme%20ist%20um%2013.30%20Uhr%20am%20Tanzbrunnen%20%2
 8Rempartstr.%29%3C%2Fp%3E%0A%0A%0A%0A%3Cp%3E%3C%2Fp%3E%0A%0A%0A%0A%3Cfigu
 re%20class%3D%22wp-block-image%20size-large%22%3E%3Cimg%20src%3D%22https%
 3A%2F%2Fgruene-freiburg.de%2Fwp-content%2Fuploads%2F2024%2F05%2FMit-Wahl-
 Sticker-Regenbogen-800x1132.png%22%20alt%3D%22%22%20class%3D%22wp-image-1
 1860%22%20%2F%3E%3C%2Ffigure%3E%0A":Der Kreisverband Freiburg ruft zur Te
 ilnahme an der Großdemo gegen Rechtsextremismus auf. Treffpunkt für die
  gemeinsame Teilnahme ist um 13.30 Uhr am Tanzbrunnen (Rempartstr.)
CLASS:PUBLIC
DTSTART;TZID=Europe/Berlin:20240602T133000
DTEND;TZID=Europe/Berlin:20240602T143000
DTSTAMP:20260425T165803
END:VEVENT
END:VCALENDAR