BEGIN:VCALENDAR
VERSION:2.0
PRODID:gruene-freiburg.de
METHOD:PUBLISH
BEGIN:VTIMEZONE
TZID:Europe/Berlin
X-LIC-LOCATION:Europe/Berlin
BEGIN:DAYLIGHT
TZOFFSETFROM:+0100
TZOFFSETTO:+0200
TZNAME:CEST
DTSTART:19700329T020000
RRULE:FREQ=YEARLY;INTERVAL=1;BYDAY=-1SU;BYMONTH=3
END:DAYLIGHT
BEGIN:STANDARD
TZOFFSETFROM:+0200
TZOFFSETTO:+0100
TZNAME:CET
DTSTART:19701025T030000
RRULE:FREQ=YEARLY;INTERVAL=1;BYDAY=-1SU;BYMONTH=10
END:STANDARD
END:VTIMEZONE
BEGIN:VEVENT
UID:f3decf1cede18cb3c522d38bc959ef94@gruene-freiburg.de
URL;VALUE=URI:https://gruene-freiburg.de/termine/ak-wirtschaft-6/
LOCATION:Hybrid
SUMMARY:AK Wirtschaft
DESCRIPTION;ALTREP="data:text/html,%0A%3Cp%3EDer%20AK%20Wirtschaft%20trif
 ft%20sich%20um%2019%3A00%20Uhr%20hybrid%20im%20Fraktionszimmer%20im%20Rat
 haus%20und%20online.%3C%2Fp%3E%0A%0A%0A%0A%3Cp%3EF%C3%BCr%20diejenigen%2C
 %20die%20nicht%20vor%20Ort%20dabei%20sein%20k%C3%B6nnen%2C%20sind%20hier%
 20die%20Zugangsdaten%20zur%20Videokonferenz%3A%3C%2Fp%3E%0A%0A%0A%0A%3Cp%
 3E%3Cstrong%3EAK%20Wirtschaft%3C%2Fstrong%3E%3Cbr%3ELink%3A%26nbsp%3B%3Ca
 %20href%3D%22https%3A%2F%2Fmeet.goto.com%2F474265661%22%3Ehttps%3A%2F%2Fm
 eet.goto.com%2F474265661%3C%2Fa%3E%3Cbr%3EZugangscode%3A%20474-265-661%3C
 %2Fp%3E%0A%0A%0A%0A%3Cp%3EThemen%20der%20Sitzung%3A%3C%2Fp%3E%0A%0A%0A%0A
 %3Cul%20class%3D%22wp-block-list%22%3E%0A%3Cli%3EKommunalwahlprogrammentw
 urf%20und%20m%C3%B6gliche%20gemeinsame%20%C3%84nderungsantr%C3%A4ge%20%3C
 %2Fli%3E%0A%0A%0A%0A%3Cli%3EBericht%20von%20Robert%20von%20der%20LAG%20Wi
 rtschaft%3C%2Fli%3E%0A%3C%2Ful%3E%0A%0A%0A%0A%3Cp%3EAnsprechperson%20f%C3
 %BCr%20den%20AK%20Wirtschaft%20ist%20Fabian%20Seiler.%3Cbr%3E%3Cstrong%3E
 %3Ca%20href%3D%22https%3A%2F%2Fgruene-freiburg.de%2Fak-wirtschaft%2F%22%3
 EInformationen%20und%20Kontakt%20zum%20Arbeitskreis%3C%2Fa%3E%3C%2Fstrong
 %3E%3C%2Fp%3E%0A":Der AK Wirtschaft trifft sich um 19:00 Uhr hybrid im Fr
 aktionszimmer im Rathaus und online.\n\nFür diejenigen\, die nicht vor O
 rt dabei sein können\, sind hier die Zugangsdaten zur Videokonferenz:\n\
 nAK WirtschaftLink: https://meet.goto.com/474265661Zugangscode: 474-265-
 661\n\nThemen der Sitzung:\n\nKommunalwahlprogrammentwurf und mögliche g
 emeinsame Änderungsanträge\n\nBericht von Robert von der LAG Wirtschaft
 \n\nAnsprechperson für den AK Wirtschaft ist Fabian Seiler.Informationen
  und Kontakt zum Arbeitskreis
CLASS:PUBLIC
DTSTART;TZID=Europe/Berlin:20231017T190000
DTEND;TZID=Europe/Berlin:20231017T200000
DTSTAMP:20260419T194619
END:VEVENT
END:VCALENDAR